BEGIN:VCALENDAR
VERSION:2.0
PRODID:-//Squarespace Inc/Squarespace 6//v6//EN
BEGIN:VEVENT
UID:563f13a3e4b068bbd97708ca@squarespace.com
DTSTAMP:20151108T092000Z
DTSTART:20151202T023000Z
DTEND:20151202T050000Z
SUMMARY:Junior after school coaching
END:VEVENT
END:VCALENDAR
