BEGIN:VCALENDAR
VERSION:2.0
PRODID:-//Squarespace Inc/Squarespace 6//v6//EN
BEGIN:VEVENT
UID:5610ba4ae4b0a8aca36769cd@squarespace.com
DTSTAMP:20151114T044140Z
DTSTART:20151202T060000Z
DTEND:20151202T080000Z
SUMMARY:Open Club Night
END:VEVENT
END:VCALENDAR
