BEGIN:VCALENDAR
VERSION:2.0
PRODID:-//Squarespace Inc/Squarespace 6//v6//EN
BEGIN:VEVENT
UID:564bd66be4b05f7859fd8002@squarespace.com
DTSTAMP:20151205T032019Z
DTSTART:20151220T200000Z
DTEND:20151220T230000Z
SUMMARY:Holiday programme
END:VEVENT
END:VCALENDAR
