BEGIN:VCALENDAR
VERSION:2.0
PRODID:-//Squarespace Inc/Squarespace 6//v6//EN
BEGIN:VEVENT
UID:564bd769e4b05f7859fdaf7e@squarespace.com
DTSTAMP:20151205T032036Z
DTSTART:20151221T200000Z
DTEND:20151221T230000Z
SUMMARY:Holiday programme
END:VEVENT
END:VCALENDAR
