BEGIN:VCALENDAR
VERSION:2.0
PRODID:-//Squarespace Inc/Squarespace 6//v6//EN
BEGIN:VEVENT
UID:564bd78de4b05f7859fdb0ee@squarespace.com
DTSTAMP:20151205T032103Z
DTSTART:20151222T200000Z
DTEND:20151222T230000Z
SUMMARY:Holiday programme
END:VEVENT
END:VCALENDAR
