BEGIN:VCALENDAR
VERSION:2.0
PRODID:-//Squarespace Inc/Squarespace 6//v6//EN
BEGIN:VEVENT
UID:564bd7b2e4b05f7859fdb272@squarespace.com
DTSTAMP:20151205T032050Z
DTSTART:20151223T200000Z
DTEND:20151223T230000Z
SUMMARY:Holiday programme
END:VEVENT
END:VCALENDAR
