BEGIN:VCALENDAR
VERSION:2.0
PRODID:-//Squarespace Inc/Squarespace 6//v6//EN
BEGIN:VEVENT
UID:563f156ee4b093dffbd88036@squarespace.com
DTSTAMP:20151108T092808Z
DTSTART:20151202T200000Z
DTEND:20151202T213000Z
SUMMARY:Ladies morning
END:VEVENT
END:VCALENDAR
