BEGIN:VCALENDAR
VERSION:2.0
PRODID:-//Squarespace Inc/Squarespace 6//v6//EN
BEGIN:VEVENT
UID:563f185ce4b0a20ebbe8c82c@squarespace.com
DTSTAMP:20151108T094001Z
DTSTART:20151204T040000Z
DTEND:20151204T060000Z
SUMMARY:Pizza Night
END:VEVENT
END:VCALENDAR
