BEGIN:VCALENDAR
VERSION:2.0
PRODID:-//Squarespace Inc/Squarespace 6//v6//EN
BEGIN:VEVENT
UID:563f1727e4b07702ec8a6ba6@squarespace.com
DTSTAMP:20151108T093459Z
DTSTART:20151204T200000Z
DTEND:20151204T220000Z
SUMMARY:Junior coaching
END:VEVENT
END:VCALENDAR
