BEGIN:VCALENDAR
VERSION:2.0
PRODID:-//Squarespace Inc/Squarespace 6//v6//EN
BEGIN:VEVENT
UID:56462222e4b0f4bd255fc364@squarespace.com
DTSTAMP:20151124T222720Z
DTSTART:20151213T030000Z
DTEND:20151213T050000Z
SUMMARY:Christmas Party
END:VEVENT
END:VCALENDAR
