BEGIN:VCALENDAR
VERSION:2.0
PRODID:-//Squarespace Inc/Squarespace 6//v6//EN
BEGIN:VEVENT
UID:563f1266e4b01117a3bd291f@squarespace.com
DTSTAMP:20151108T091436Z
DTSTART:20151207T033000Z
DTEND:20151207T053000Z
SUMMARY:Junior after school coaching
END:VEVENT
END:VCALENDAR
