BEGIN:VCALENDAR
VERSION:2.0
PRODID:-//Squarespace Inc/Squarespace 6//v6//EN
BEGIN:VEVENT
UID:5610ba68e4b00eddebd25ec2@squarespace.com
DTSTAMP:20151114T044205Z
DTSTART:20151209T060000Z
DTEND:20151209T080000Z
SUMMARY:Open Club Night
END:VEVENT
END:VCALENDAR
