BEGIN:VCALENDAR
VERSION:2.0
PRODID:-//Squarespace Inc/Squarespace 6//v6//EN
BEGIN:VEVENT
UID:55598d15e4b0bd6828887cfd@squarespace.com
DTSTAMP:20150518T070035Z
DTSTART:20150726T220000Z
DTEND:20150727T000000Z
SUMMARY:Gladstone Tennis Club AGM
END:VEVENT
END:VCALENDAR
