BEGIN:VCALENDAR
VERSION:2.0
PRODID:-//Squarespace Inc/Squarespace 6//v6//EN
BEGIN:VEVENT
UID:56907db6df40f361d6e9df0b@squarespace.com
DTSTAMP:20160109T032813Z
DTSTART:20160110T170000Z
DTEND:20160122T050000Z
SUMMARY:Court resurfacing
END:VEVENT
END:VCALENDAR
