BEGIN:VCALENDAR
VERSION:2.0
PRODID:-//Squarespace Inc/Squarespace 6//v6//EN
BEGIN:VEVENT
UID:56a9dc7d1f403906165823a3@squarespace.com
DTSTAMP:20160128T091928Z
DTSTART:20160217T200000Z
DTEND:20160217T213000Z
SUMMARY:Ladies morning
END:VEVENT
END:VCALENDAR
