BEGIN:VCALENDAR
VERSION:2.0
PRODID:-//Squarespace Inc/Squarespace 6//v6//EN
BEGIN:VEVENT
UID:56a9d8f80ab3771ff31684e2@squarespace.com
DTSTAMP:20160128T090211Z
DTSTART:20160210T023000Z
DTEND:20160210T050000Z
SUMMARY:Junior after school coaching
END:VEVENT
END:VCALENDAR
