BEGIN:VCALENDAR
VERSION:2.0
PRODID:-//Squarespace Inc/Squarespace 6//v6//EN
BEGIN:VEVENT
UID:56a9dc581f40390616582353@squarespace.com
DTSTAMP:20160128T091633Z
DTSTART:20160210T200000Z
DTEND:20160210T213000Z
SUMMARY:Ladies morning
END:VEVENT
END:VCALENDAR
