BEGIN:VCALENDAR
VERSION:2.0
PRODID:-//Squarespace Inc/Squarespace 6//v6//EN
BEGIN:VEVENT
UID:56a9e0d05827c32599da153c@squarespace.com
DTSTAMP:20160128T093951Z
DTSTART:20160212T040000Z
DTEND:20160212T060000Z
SUMMARY:First pizza night and the opening of the new courts
END:VEVENT
END:VCALENDAR
