BEGIN:VCALENDAR
VERSION:2.0
PRODID:-//Squarespace Inc/Squarespace 6//v6//EN
BEGIN:VEVENT
UID:56a9e23ea128e60ffc5344ac@squarespace.com
DTSTAMP:20160128T094143Z
DTSTART:20160212T200000Z
DTEND:20160212T220000Z
SUMMARY:Junior coaching starts again
END:VEVENT
END:VCALENDAR
