BEGIN:VCALENDAR
VERSION:2.0
PRODID:-//Squarespace Inc/Squarespace 6//v6//EN
BEGIN:VEVENT
UID:56a9d91d0ab3771ff3168571@squarespace.com
DTSTAMP:20160128T090310Z
DTSTART:20160217T023000Z
DTEND:20160217T050000Z
SUMMARY:Junior after school coaching
END:VEVENT
END:VCALENDAR
