BEGIN:VCALENDAR
VERSION:2.0
PRODID:-//Squarespace Inc/Squarespace 6//v6//EN
BEGIN:VEVENT
UID:56c3925a8a65e211a985225c@squarespace.com
DTSTAMP:20160216T211953Z
DTSTART:20160219T040000Z
DTEND:20160219T050000Z
SUMMARY:Pizza Night
END:VEVENT
END:VCALENDAR
