BEGIN:VCALENDAR
VERSION:2.0
PRODID:-//Squarespace Inc/Squarespace 6//v6//EN
BEGIN:VEVENT
UID:56a9e26ea128e60ffc534547@squarespace.com
DTSTAMP:20160128T094244Z
DTSTART:20160219T200000Z
DTEND:20160219T220000Z
SUMMARY:Junior coaching
END:VEVENT
END:VCALENDAR
