BEGIN:VCALENDAR
VERSION:2.0
PRODID:-//Squarespace Inc/Squarespace 6//v6//EN
BEGIN:VEVENT
UID:56a9dade8b38d453db19af8c@squarespace.com
DTSTAMP:20160128T091023Z
DTSTART:20160222T033000Z
DTEND:20160222T053000Z
SUMMARY:Junior after school coaching
END:VEVENT
END:VCALENDAR
