BEGIN:VCALENDAR
VERSION:2.0
PRODID:-//Squarespace Inc/Squarespace 6//v6//EN
BEGIN:VEVENT
UID:56a9d95bc21b862fcfd98652@squarespace.com
DTSTAMP:20160128T090344Z
DTSTART:20160224T023000Z
DTEND:20160224T050000Z
SUMMARY:Junior after school coaching
END:VEVENT
END:VCALENDAR
