BEGIN:VCALENDAR
VERSION:2.0
PRODID:-//Squarespace Inc/Squarespace 6//v6//EN
BEGIN:VEVENT
UID:56a9dccc1c1210a07248e9f5@squarespace.com
DTSTAMP:20160128T091851Z
DTSTART:20160224T200000Z
DTEND:20160224T213000Z
SUMMARY:Ladies A&D Tournament
END:VEVENT
END:VCALENDAR
