BEGIN:VCALENDAR
VERSION:2.0
PRODID:-//Squarespace Inc/Squarespace 6//v6//EN
BEGIN:VEVENT
UID:56c39284cf80a1bf7aad0063@squarespace.com
DTSTAMP:20160216T212025Z
DTSTART:20160226T040000Z
DTEND:20160226T060000Z
SUMMARY:Pizza Night
END:VEVENT
END:VCALENDAR
