BEGIN:VCALENDAR
VERSION:2.0
PRODID:-//Squarespace Inc/Squarespace 6//v6//EN
BEGIN:VEVENT
UID:56a9e2a642f552e4d5ad17ba@squarespace.com
DTSTAMP:20160128T094341Z
DTSTART:20160226T200000Z
DTEND:20160226T220000Z
SUMMARY:Junior coaching
END:VEVENT
END:VCALENDAR
