BEGIN:VCALENDAR
VERSION:2.0
PRODID:-//Squarespace Inc/Squarespace 6//v6//EN
BEGIN:VEVENT
UID:56a9d8c4dc5cb4eb3df00e1d@squarespace.com
DTSTAMP:20160128T090132Z
DTSTART:20160203T023000Z
DTEND:20160203T050000Z
SUMMARY:Junior after school coaching starts
END:VEVENT
END:VCALENDAR
