BEGIN:VCALENDAR
VERSION:2.0
PRODID:-//Squarespace Inc/Squarespace 6//v6//EN
BEGIN:VEVENT
UID:56a9dc34dc5cb4eb3df0184d@squarespace.com
DTSTAMP:20160128T091558Z
DTSTART:20160203T200000Z
DTEND:20160203T213000Z
SUMMARY:Ladies morning
END:VEVENT
END:VCALENDAR
