BEGIN:VCALENDAR
VERSION:2.0
PRODID:-//Squarespace Inc/Squarespace 6//v6//EN
BEGIN:VEVENT
UID:5646263fe4b0f7b0d0da387e@squarespace.com
DTSTAMP:20151113T180701Z
DTSTART:20160207T230000Z
DTEND:20160208T000000Z
SUMMARY:Club Champs draw released
END:VEVENT
END:VCALENDAR
