BEGIN:VCALENDAR
VERSION:2.0
PRODID:-//Squarespace Inc/Squarespace 6//v6//EN
BEGIN:VEVENT
UID:56462678e4b086e31e2ac583@squarespace.com
DTSTAMP:20151113T180620Z
DTSTART:20160208T183000Z
DTEND:20160208T193000Z
SUMMARY:Club Champs play starts
END:VEVENT
END:VCALENDAR
