BEGIN:VCALENDAR
VERSION:2.0
PRODID:-//Squarespace Inc/Squarespace 6//v6//EN
BEGIN:VEVENT
UID:589a35a6e6f2e107c0f44163@squarespace.com
DTSTAMP:20170207T210137Z
DTSTART:20170410T063000Z
DTEND:20170410T073000Z
SUMMARY:Men's Tennisfit
END:VEVENT
END:VCALENDAR
