BEGIN:VCALENDAR
VERSION:2.0
PRODID:-//Squarespace Inc/Squarespace 6//v6//EN
BEGIN:VEVENT
UID:589938d7e3df288fed26fcda@squarespace.com
DTSTAMP:20170207T030254Z
DTSTART:20170412T040000Z
DTEND:20170412T060000Z
SUMMARY:After School Kids Coaching
END:VEVENT
END:VCALENDAR
