BEGIN:VCALENDAR
VERSION:2.0
PRODID:-//Squarespace Inc/Squarespace 6//v6//EN
BEGIN:VEVENT
UID:58d724bb725e25ffc9ae2c65@squarespace.com
DTSTAMP:20170326T021741Z
DTSTART:20170412T070000Z
DTEND:20170412T080000Z
SUMMARY:Gladstone Club Night
END:VEVENT
END:VCALENDAR
