BEGIN:VCALENDAR
VERSION:2.0
PRODID:-//Squarespace Inc/Squarespace 6//v6//EN
BEGIN:VEVENT
UID:58993a258419c2c942036661@squarespace.com
DTSTAMP:20181205T045315Z
DTSTART:20181207T040000Z
DTEND:20181207T053000Z
SUMMARY:Junior Pizza Night
END:VEVENT
END:VCALENDAR
