BEGIN:VCALENDAR
VERSION:2.0
PRODID:-//Squarespace Inc/Squarespace 6//v6//EN
BEGIN:VEVENT
UID:5950dca903596e991b21f9e4@squarespace.com
DTSTAMP:20170626T100639Z
DTSTART:20170417T063000Z
DTEND:20170417T073000Z
SUMMARY:Men's Tennisfit
END:VEVENT
END:VCALENDAR
