BEGIN:VCALENDAR
VERSION:2.0
PRODID:-//Squarespace Inc/Squarespace 6//v6//EN
BEGIN:VEVENT
UID:5950d75f20099e6f69cf6ac2@squarespace.com
DTSTAMP:20170626T094418Z
DTSTART:20170419T040000Z
DTEND:20170419T060000Z
SUMMARY:After School Kids Coaching
END:VEVENT
END:VCALENDAR
