BEGIN:VCALENDAR
VERSION:2.0
PRODID:-//Squarespace Inc/Squarespace 6//v6//EN
BEGIN:VEVENT
UID:5950dcc215d5dbd569695415@squarespace.com
DTSTAMP:20170626T100701Z
DTSTART:20170424T063000Z
DTEND:20170424T073000Z
SUMMARY:Men's Tennisfit
END:VEVENT
END:VCALENDAR
