BEGIN:VCALENDAR
VERSION:2.0
PRODID:-//Squarespace Inc/Squarespace 6//v6//EN
BEGIN:VEVENT
UID:5950d78836e5d3e00388ae4c@squarespace.com
DTSTAMP:20170626T094448Z
DTSTART:20170426T040000Z
DTEND:20170426T060000Z
SUMMARY:After School Kids Coaching
END:VEVENT
END:VCALENDAR
