BEGIN:VCALENDAR
VERSION:2.0
PRODID:-//Squarespace Inc/Squarespace 6//v6//EN
BEGIN:VEVENT
UID:58993c79cd0f68a6d92b029f@squarespace.com
DTSTAMP:20170207T031825Z
DTSTART:20170407T210000Z
DTEND:20170407T230000Z
SUMMARY:Junior Coaching
END:VEVENT
END:VCALENDAR
