BEGIN:VCALENDAR
VERSION:2.0
PRODID:-//Squarespace Inc/Squarespace 6//v6//EN
BEGIN:VEVENT
UID:5950dccde6f2e1bb589fe440@squarespace.com
DTSTAMP:20170626T100713Z
DTSTART:20170501T063000Z
DTEND:20170501T073000Z
SUMMARY:Men's Tennisfit
END:VEVENT
END:VCALENDAR
