BEGIN:VCALENDAR
VERSION:2.0
PRODID:-//Squarespace Inc/Squarespace 6//v6//EN
BEGIN:VEVENT
UID:5950d7a8579fb399a02ec49c@squarespace.com
DTSTAMP:20170626T094521Z
DTSTART:20170510T040000Z
DTEND:20170510T060000Z
SUMMARY:After School Kids Coaching
END:VEVENT
END:VCALENDAR
