BEGIN:VCALENDAR
VERSION:2.0
PRODID:-//Squarespace Inc/Squarespace 6//v6//EN
BEGIN:VEVENT
UID:5950dce515d5dbd5696954e0@squarespace.com
DTSTAMP:20170626T100737Z
DTSTART:20170515T063000Z
DTEND:20170515T073000Z
SUMMARY:Men's Tennisfit
END:VEVENT
END:VCALENDAR
