BEGIN:VCALENDAR
VERSION:2.0
PRODID:-//Squarespace Inc/Squarespace 6//v6//EN
BEGIN:VEVENT
UID:5950da27f5e231db4276df75@squarespace.com
DTSTAMP:20170626T095601Z
DTSTART:20170517T040000Z
DTEND:20170517T050000Z
SUMMARY:After School Kids Coaching
END:VEVENT
END:VCALENDAR
