BEGIN:VCALENDAR
VERSION:2.0
PRODID:-//Squarespace Inc/Squarespace 6//v6//EN
BEGIN:VEVENT
UID:595229fe6b8f5b75fd22b60b@squarespace.com
DTSTAMP:20170627T094853Z
DTSTART:20170522T063000Z
DTEND:20170522T073000Z
SUMMARY:Men's Tennisfit
END:VEVENT
END:VCALENDAR
