BEGIN:VCALENDAR
VERSION:2.0
PRODID:-//Squarespace Inc/Squarespace 6//v6//EN
BEGIN:VEVENT
UID:5950da3c37c5812dce6a547f@squarespace.com
DTSTAMP:20170626T095618Z
DTSTART:20170524T040000Z
DTEND:20170524T060000Z
SUMMARY:After School Kids Coaching
END:VEVENT
END:VCALENDAR
