BEGIN:VCALENDAR
VERSION:2.0
PRODID:-//Squarespace Inc/Squarespace 6//v6//EN
BEGIN:VEVENT
UID:59522a0d44024317abc1d657@squarespace.com
DTSTAMP:20170627T094910Z
DTSTART:20170529T063000Z
DTEND:20170529T073000Z
SUMMARY:Men's Tennisfit
END:VEVENT
END:VCALENDAR
