BEGIN:VCALENDAR
VERSION:2.0
PRODID:-//Squarespace Inc/Squarespace 6//v6//EN
BEGIN:VEVENT
UID:5950d797b6ac5081d70aee8b@squarespace.com
DTSTAMP:20170626T094505Z
DTSTART:20170503T040000Z
DTEND:20170503T060000Z
SUMMARY:After School Kids Coaching
END:VEVENT
END:VCALENDAR
