BEGIN:VCALENDAR
VERSION:2.0
PRODID:-//Squarespace Inc/Squarespace 6//v6//EN
BEGIN:VEVENT
UID:5950da4b1b10e30c09a91fac@squarespace.com
DTSTAMP:20170626T095633Z
DTSTART:20170531T040000Z
DTEND:20170531T060000Z
SUMMARY:After School Kids Coaching
END:VEVENT
END:VCALENDAR
