BEGIN:VCALENDAR
VERSION:2.0
PRODID:-//Squarespace Inc/Squarespace 6//v6//EN
BEGIN:VEVENT
UID:5950dcd8ebbd1a615c9e1a96@squarespace.com
DTSTAMP:20170626T100726Z
DTSTART:20170508T063000Z
DTEND:20170508T073000Z
SUMMARY:Men's Tennisfit
END:VEVENT
END:VCALENDAR
